BEGIN:VCALENDAR
VERSION:2.0
PRODID:-//eventon.com NONSGML v1.0//EN
CALSCALE:GREGORIAN
METHOD:PUBLISH
BEGIN:VEVENT
UID:69e7a54fb3ea8
DTSTAMP:20260421T162655Z
DTSTART:20191102T220000Z
DTEND:20191103T003000Z
LOCATION:
SUMMARY:Trick or Treat-City of Brookfield
DESCRIPTION:Be sure to have an extra safe Halloween this year by rememberin
 g these trick-or-treat tips: (American Academy of Pediatrics )   *A parent
  or responsible adult should always accompany young children on their neigh
 borhood rounds. *Have flashlights with fresh batteries for all children and
  their escorts. *If your older children[..]\nhttps://www.visitbrookfield.co
 m/events/trick-or-treat-city-of-brookfield/
URL:https://www.visitbrookfield.com/events/trick-or-treat-city-of-brookfield/
END:VEVENT
END:VCALENDAR